BEGIN:VCALENDAR
VERSION:2.0
PRODID:-//wp-events-plugin.com//7.2.3.1//EN
BEGIN:VEVENT
UID:131@ukfiet.org
DTSTART:20210413T110000Z
DTEND:20210413T130000Z
DTSTAMP:20210330T140857Z
URL:https://www.ukfiet.org/events/when-crisis-meets-crisis-refugees-access
 -to-higher-education-in-host-countries/
SUMMARY:When crisis meets crisis: refugees’ access to higher education in
  host countries
DESCRIPTION:IIEP-UNESCO Strategic Debate: When crisis meets crisis\nREGISTE
 R HERE\nProviding equal access to education for refugees is a challenge ac
 ross all school levels\, and especially in higher education where only 3% 
 of refugees are enrolled. The UN Refugee Agency (UNHCR) has set an ambitio
 us target to ensure that 15% of young refugee women and men are enrolled i
 n higher education by 2030. This would have many benefits not only for ref
 ugees\, but for host countries and their education systems.\nWhat can host
  countries and their higher education institutions do to facilitate access
  for refugees? How can barriers such as language\, credential recognition\
 , and costs and financing be addressed? What new challenges has COVID-19 c
 reated for refugees?\nJoin the next Strategic Debate on 13 April 2021 from
  10am-12pm UTC\, with:\n\n	Manal Stulgaitis\, Education Officer\, UNHCR\n	
 Wondwosen Tamrat\, Associate professor and President of St Mary’s Univer
 sity\, Ethiopia\n	Hana El Ghali\, higher education policy expert\n	Safia I
 brahimkhel\, alumna and former refugee student\, Pakistan\n\nMichaela Mart
 in\, Research and Development team leader\, IIEP-UNESCO\, will moderate th
 e debate.\nThis event will be held in English with simultaneous interpreta
 tion into French. Follow the debate on Twitter with #StrategicDebate and @
 IIEP_UNESCO.
ATTACH;FMTTYPE=image/jpeg:https://www.ukfiet.org/wp-content/uploads/2021/0
 3/IIEP-debate-13April.jpg
CATEGORIES:Panel
END:VEVENT
END:VCALENDAR