BEGIN:VCALENDAR
VERSION:2.0
PRODID:-//wp-events-plugin.com//7.2.3.1//EN
BEGIN:VEVENT
UID:21@ukfiet.org
DTSTART:20200825T140000Z
DTEND:20200825T150000Z
DTSTAMP:20200824T011656Z
URL:https://www.ukfiet.org/events/webinar-arts-in-education-during-covid-1
 9-illustrating-the-value-of-creativity-and-adaptability/
SUMMARY:WEBINAR: Arts in education during COVID-19: Illustrating the value 
 of creativity and adaptability
DESCRIPTION:25 August 2020 9 am Eastern Time\, 2pm BST UK time\n\nThis webi
 nar will highlight how Education in Emergency (EiE) practitioners can harn
 ess the arts to enhance the COVID-19 response. The discussion will focus o
 n how art can be used to foster social emotional learning (SEL)\, student 
 and school community wellbeing\, while linking to other life-saving humani
 tarian sectors.\n\nPanelists will provide an overview of how they are adap
 ting existing EiE arts responses to the COVID-19 context in a variety of s
 ettings and how others can integrate similar approaches in their work duri
 ng the pandemic\, and as classroom instruction resumes in a post-COVID wor
 ld.\n\nThe webinar will also be an opportunity for a wider discussion with
  INEE members through a moderated Q&amp\;A.\n\n&nbsp\;\n\nRegister here\n\
 n&nbsp\;
ATTACH;FMTTYPE=image/jpeg:https://www.ukfiet.org/wp-content/uploads/2020/0
 8/INEE-25-Aug-2020-300x252-1.jpg
CATEGORIES:Webinar
END:VEVENT
END:VCALENDAR