BEGIN:VCALENDAR
VERSION:2.0
PRODID:-//wp-events-plugin.com//7.2.3.1//EN
BEGIN:VEVENT
UID:26@ukfiet.org
DTSTART;VALUE=DATE:20170601
DTEND;VALUE=DATE:20170602
DTSTAMP:20200824T004319Z
URL:https://www.ukfiet.org/events/voices-of-the-next-generation-shaping-th
 e-future-of-education-in-development/
SUMMARY:Voices of the Next Generation -Shaping the future of education in d
 evelopment
DESCRIPTION:Voices of the next generation is a one-day conference for educa
 tion development professionals with less than ten years’ work experience
  in the sector.\nThursday 1 June 2017\, Cambridge Education offices\, Lond
 on\n\nIt will provide a space for those at the early stage of their career
 s to explore how innovation has the potential to create new directions for
  international education and development and how they can shape this.\n\nT
 he conference is being organised by Cambridge Education in collaboration w
 ith UKFIET\, The Commonwealth\, Atkins Global\, Save the Children UK and t
 he Young MCA.\nHow to get involved\nRegister\n\nRegistration for attendees
  will be open on Tuesday 2 May and close on Thursday 25 May.\n\nContribute
  to a session\n\nAttendees are invited to submit a proposal to lead a sess
 ion linked to the conference themes. The more innovative the better!\n\nFo
 r more information visit   Voices for the Next Generation
ATTACH;FMTTYPE=image/jpeg:https://www.ukfiet.org/wp-content/uploads/2017/0
 3/students-377789_1280-600-x-400.jpg
CATEGORIES:Conference
END:VEVENT
END:VCALENDAR