BEGIN:VCALENDAR
VERSION:2.0
PRODID:-//wp-events-plugin.com//7.2.3.1//EN
BEGIN:VEVENT
UID:608@ukfiet.org
DTSTART:20240426T100000Z
DTEND:20240426T123000Z
DTSTAMP:20240325T184120Z
URL:https://www.ukfiet.org/events/ukfiet-early-career-event/
SUMMARY:UKFIET Early Career Event
DESCRIPTION:26 April\, 10:00 - 12:30 BST\, Hybrid\nCalling all students and
  early career professionals and researchers in Education and International
  Development!\nUKFIET is pleased to announce its Early Career Day will be 
 taking place as a hybrid event on Friday\, 26th April\,  from 10am to 12.
 30pm.\nOur Keynote speaker is Dr Kaśka Kubacka\, Head of International Ed
 ucation and Development at National Foundation for Educational Research (N
 FER). Parallel session speakers will include staff from the UN\, FCDO\, Pl
 an International\, among others\, and participants will have the opportuni
 ty to network with members of the UKFIET Executive Committee.\nThe in-pers
 on venue will be The British Council Offices in London\, 1 Redman Pl\, Lon
 don E20 1JQ\, and will be followed immediately by a networking lunch.\nCur
 rent Master’s students\, PhD candidates and interns are eligible for UK 
 transport bursaries and please note that in-person participants will be re
 quired to contribute £5 at the point of registration towards lunch and re
 freshments.\nPlease register your interest by signing up by Friday\, 12th 
 April. Spaces are limited\, so please register as soon as possible!\nREGIS
 TER HERE
ATTACH;FMTTYPE=image/jpeg:https://www.ukfiet.org/wp-content/uploads/2024/0
 3/UKFIET-91.jpg
CATEGORIES:Seminar
END:VEVENT
END:VCALENDAR