BEGIN:VCALENDAR
VERSION:2.0
PRODID:-//wp-events-plugin.com//7.2.3.1//EN
BEGIN:VEVENT
UID:646@ukfiet.org
DTSTART;VALUE=DATE:20250916
DTEND;VALUE=DATE:20250919
DTSTAMP:20250725T084016Z
URL:https://www.ukfiet.org/events/ukfiet-conference-2025/
SUMMARY:UKFIET Conference 2025
DESCRIPTION:For full information on the conference please visit our confere
 nce pages \n&nbsp\;\nhttps://www.ukfiet.org/conference/ukfiet-conference-
 2025/
ATTACH;FMTTYPE=image/jpeg:https://www.ukfiet.org/wp-content/uploads/2025/0
 2/2025-Conference-web-images_Title_dates.jpg
CATEGORIES:Conference
END:VEVENT
END:VCALENDAR