BEGIN:VCALENDAR
VERSION:2.0
PRODID:-//wp-events-plugin.com//7.2.3.1//EN
BEGIN:VEVENT
UID:190@ukfiet.org
DTSTART:20210720T140000Z
DTEND:20210720T140000Z
DTSTAMP:20210717T154241Z
URL:https://www.ukfiet.org/events/transforming-social-norms-to-end-child-m
 arriage-and-advance-girls-education/
SUMMARY:Transforming Social Norms to End Child Marriage and Advance Girls
 ’ Education
DESCRIPTION:The UN Girls’ Education Initiative (UNGEI) and Girls Not Brid
 es* are hosting a side event to the GPE Global Education Summit\, Transfor
 ming Social Norms to End Child Marriage and Advance Girls’ Education. Ch
 ild marriage serves as a barrier to education for many girls\, yet ending 
 child marriage and transforming social norms are rarely explicit education
  goals. This can change. \n\nIn this webinar\, UNGEI will present the find
 ings of the desk study on persistent social norms that serve as barriers t
 o girls' education in the Gender at the Centre Initiative (GCI) pilot coun
 tries. Girls Not Brides will share emerging learning from their GPE-funded
  Education Out Loud project working to address child marriage and promote 
 girls' education in Francophone West Africa.\n\nRepresentatives from youth
 -led organizations\, donor countries\, and regional CSOs will come togethe
 r to call for a greater focus on gender norms for education funding\, plan
 ning and programming. It’s time to target social norms to advance girls
 ’ education\, end child marriage\, and promote transformative change for
  a gender equal world. Join us! \n\n\nREGISTER HERE\n&nbsp\;\n*Co-funded b
 y Education Out Loud
ATTACH;FMTTYPE=image/jpeg:https://www.ukfiet.org/wp-content/uploads/2021/0
 7/Transforming-social-norms.jpg
CATEGORIES:Webinar
END:VEVENT
END:VCALENDAR