BEGIN:VCALENDAR
VERSION:2.0
PRODID:-//wp-events-plugin.com//7.2.3.1//EN
BEGIN:VEVENT
UID:706@ukfiet.org
DTSTART:20250218T130000Z
DTEND:20250218T140000Z
DTSTAMP:20250108T124234Z
URL:https://www.ukfiet.org/events/the-send-my-friend-to-school-campaign-th
 e-power-of-uk-school-children-ngos-and-teacher-unions-in-influencing-the-u
 ks-education-aid/
SUMMARY:The Send My Friend to School campaign: The power of UK school child
 ren\, NGOs and teacher unions in influencing the UK’s education aid
DESCRIPTION:18 February\, 1-2pm GMT\nREGISTER HERE\nJoin this REAL Centre s
 eminar in person at the Faculty of Education\, University of Cambridge\, o
 r online\, to hear from invited speaker:\nEmma Wagner\, Senior Education P
 olicy and Advocacy Adviser\, Save the Children\, and Co-Chair\, Send My Fr
 iend To School Campaign\nThis seminar presents the different influencing t
 actics the Send My Friend to School Coalition uses to engage UK parliament
 arians and policymakers to ensure the UK Government prioritises education 
 within its international development strategy.\nIn 2025\, the Coalition ce
 lebrates its 25th Anniversary and it will be reflecting on its successes a
 nd challenges related to various campaign themes over the years\, includin
 g girls’ education\, attacks on schools\, teachers\, education in emerge
 ncies and inclusive education. The seminar will show how the Coalition wor
 ks with thousands of UK schools\, what the successes and challenges have b
 een in achieving policy and funding ‘wins’ and how the approach contin
 ues to evolve. The new two-year campaign will begin in March 2025\, with a
  focus on increasing UK funding to education – get a sneak peak of the k
 ey milestones and policy recommendations ahead of the launch.\n&nbsp\;\n&n
 bsp\;
ATTACH;FMTTYPE=image/jpeg:https://www.ukfiet.org/wp-content/uploads/2014/1
 0/REAL-logo-LRG-1-smaller.jpg
CATEGORIES:Seminar
END:VEVENT
END:VCALENDAR