BEGIN:VCALENDAR
VERSION:2.0
PRODID:-//wp-events-plugin.com//7.2.3.1//EN
BEGIN:VEVENT
UID:885@ukfiet.org
DTSTART:20260505T130000Z
DTEND:20260505T140000Z
DTSTAMP:20260423T090736Z
URL:https://www.ukfiet.org/events/teaching-at-the-right-level-tarl-researc
 hing-the-process-of-scaling-in-sindh-province/
SUMMARY:Teaching at the Right Level (TaRL): Researching the process of scal
 ing in Sindh Province
DESCRIPTION:5 May\, 13:00-14:00 BST\nREGISTER HERE TO JOIN IN CAMBRIDGE OR 
 ONLINE\nThis seminar will provide updates on researching the pilot project
  of uptake of Teaching at the Right Level (TaRL) in the Sindh Province in 
 Pakistan. Emerging findings from classroom observations\, as well as inter
 views with teachers and key informants and learning assessments will be pr
 esented to engage critically with this area of knowledge. The work is unde
 rtaken through the Data and Research in Education (DARE) Research Consorti
 um.\nPanellists:\n\n	Dr Shenila Rawal\, Education Economist and Managing P
 artner at the Oxford Partnership for Education Research and Analysis (OPER
 A)\n	Dr Camilla Hadi Chaudhary\, Research Associate\, Faculty of Education
 \n	Professor Ricardo Sabates\, REAL Centre\n\n&nbsp\;
ATTACH;FMTTYPE=image/jpeg:https://www.ukfiet.org/wp-content/uploads/2026/0
 4/REAL-5-5-26.jpg
CATEGORIES:Seminar
END:VEVENT
END:VCALENDAR