BEGIN:VCALENDAR
VERSION:2.0
PRODID:-//wp-events-plugin.com//7.2.3.1//EN
BEGIN:VEVENT
UID:887@ukfiet.org
DTSTART:20260519T130000Z
DTEND:20260519T140000Z
DTSTAMP:20260423T091444Z
URL:https://www.ukfiet.org/events/teacher-agency-for-equity-and-change/
SUMMARY:Teacher agency for equity and change
DESCRIPTION:19 May\, 13:00-14:00 BST\nREGISTER HERE TO JOIN IN CAMBRIDGE OR
  CAPE TOWN OR ONLINE \nJoin the Research for Equitable Access and Learning
  (REAL) Centre at the University of Cambridge\, UK\, and the University of
  the Western Cape (UWC)\, South Africa\, for a joint seminar series explor
 ing equity and pedagogy in times of global crises.\nThis seminar will expl
 ore how teacher agency shapes the implementation of national education ref
 orms in the Global South\, drawing on evidence from Ethiopia\, Kenya\, Pak
 istan and Tanzania. It will pay particular attention to how teacher agency
  is activated in initial teacher education and how it is realised in diver
 se classroom settings\, focusing particularly on how agency supports equit
 y and social justice in and through education.\n\n	Dr Dawit Tibebu Tiruneh
 \, Assistant Research Professor\, REAL Centre\, University of Cambridge\n	
 Dr Nicholas Wachira\, Aga Khan University Institute for Educational Develo
 pment (AKU-IED)\, East Africa\n\nSee other seminars in the series.\n&nbsp\
 ;
ATTACH;FMTTYPE=image/jpeg:https://www.ukfiet.org/wp-content/uploads/2026/0
 4/REAK-19-5-26.jpg
CATEGORIES:Seminar
END:VEVENT
END:VCALENDAR