BEGIN:VCALENDAR
VERSION:2.0
PRODID:-//wp-events-plugin.com//7.2.3.1//EN
BEGIN:VEVENT
UID:196@ukfiet.org
DTSTART:20210722T160000Z
DTEND:20210722T170000Z
DTSTAMP:20210717T160737Z
URL:https://www.ukfiet.org/events/strengthening-support-for-teachers-in-cr
 isis-contexts-promising-and-innovative-practices-in-teacher-professional-d
 evelopment/
SUMMARY:Strengthening Support for Teachers in Crisis Contexts: Promising an
 d Innovative Practices in Teacher Professional Development
DESCRIPTION:The INEE Global Education Summit side event will include Educat
 ion in Emergencies actors sharing promising practices for improving and su
 staining quality and innovative teaching across a range of settings.\nREGI
 STER HERE\n
ATTACH;FMTTYPE=image/jpeg:https://www.ukfiet.org/wp-content/uploads/2021/0
 7/Teachers-in-Crisis.png
CATEGORIES:Webinar
END:VEVENT
END:VCALENDAR