BEGIN:VCALENDAR
VERSION:2.0
PRODID:-//wp-events-plugin.com//7.2.3.1//EN
BEGIN:VEVENT
UID:81@ukfiet.org
DTSTART:20210317T120000Z
DTEND:20210317T133000Z
DTSTAMP:20210119T111130Z
URL:https://www.ukfiet.org/events/school-of-education-2021-webinar-series-
 celebrating-social-justice-research-in-education-5/
SUMMARY:School of Education 2021 Webinar Series – Celebrating Social Just
 ice Research in Education
DESCRIPTION:Ethics\, Religion and Values in Education\nAbout this Event\nIn
  this final webinar we focus on research that relates to the history of id
 eas\, metatheory\, principled scholarship\, and theory building applied to
  contemporary issues of social justice and underpins the School’s approa
 ch to innovative and cross-disciplinary pedagogies.\nSocial justice dispos
 itions informing teachers’ pedagogy in advantaged &amp\; disadvantaged s
 econdary schools (Professor Trevor Gale)\nBeyond the Industrial School –
  Past and Present (Professor Bob Davis)\nCatholic Teacher Formation: Histo
 rical and Contemporary Perspectives (Dr Leonard Franchi)\nREGISTER HERE\nT
 he School of Education at the University of Glasgow\, in conjunction with 
 the Centre for Research and Development in Adult and Lifelong Learning (CR
 &amp\;DALL)\, the Robert Owen Centre for Educational Change and the UNESCO
  Chair in Refugee Education through Languages and the Arts invites you to 
 our Webinar Series 2021.\nThe series celebrates the work of our researcher
 s and those they work with in these most challenging of times\, during whi
 ch they have continued to make a real difference for society’s most vuln
 erable and educationally disadvantaged\, from local to global levels. This
  showcase illustrates some of that work\, and will be presented in 5 webin
 ars using the Zoom platform.\nIt highlights some of our most significant a
 nd impactful work during the last decade within each of the main themes of
  the school: Urban and Place Based Learning\, Collaborative Schooling for 
 Change\, Adult Learning and Youth Transitions\, Migration and Refugee Educ
 ation and Ethics\, Religion and Values in Education. Each webinar will foc
 us on 3 or 4 projects\, and will complemented by reflections by some of ou
 r key collaborators around the world\, within and beyond the academy.\nAll
  are welcome to join us\, and details to register are provided. These link
 s provide outlines of the inputs to each webinar. Individuals should regis
 ter separately for each of the webinars they are interested in\, and more 
 details of each event will follow. Full details and instructions for joini
 ng will be circulated post registration and prior to each of the events.\n
 \n	Wednesday 20 January 2021 12:00-13:30 (GMT): Urban and Place Based Lear
 ning\n	Wednesday 3 February 2021 12:00-13:30 (GMT): Collaborative Schoolin
 g for Change\n	Wednesday 17 February 2021 12:00-13:30 (GMT): Adult Learnin
 g and Youth Transitions\n	Wednesday 3 March 2021 12:00-13:30 (GMT): Migrat
 ion and Refugee Education and Ethics\n	Wednesday 17 March 2021 12:00-13:30
  (GMT): Ethics\, Religion and Values in Education\n
ATTACH;FMTTYPE=image/jpeg:https://www.ukfiet.org/wp-content/uploads/2021/0
 1/University-of-Glasgow.jpg
CATEGORIES:Webinar
END:VEVENT
END:VCALENDAR