BEGIN:VCALENDAR
VERSION:2.0
PRODID:-//wp-events-plugin.com//7.2.3.1//EN
BEGIN:VEVENT
UID:400@ukfiet.org
DTSTART:20220627T103000Z
DTEND:20220627T170000Z
DTSTAMP:20220621T143347Z
URL:https://www.ukfiet.org/events/reimagining-higher-education-and-interna
 tional-development/
SUMMARY:Reimagining higher education and international development
DESCRIPTION:27 June 2022\, 10:30-17:00 BST\nSocial contract\, public good a
 nd reimagining institutions: Higher education and international developmen
 t in an age of uncertainties\nAbout this event\nThis event aims to showcas
 e work by researchers involved with CEID (Centre for Education and Interna
 tional Development\, UCL) on higher education and international developmen
 t\, looking at inequality\, public good\, social contract\, decolonisation
  and climate justice. The event will also be an opportunity to hear insigh
 ts from the FCDO-funded SPHEIR programmes\, which completed work in March 
 2022. Poster presentations on research by doctoral students in CEID addres
 sing aspects of higher education and international development will be on 
 display.\nThe full day of presentations and discussions is free to attend 
 in person or online but registration on Eventbrite is required. The event 
 is open to all those with an interest in the issues under discussion.\nREG
 ISTER HERE\nProgramme\n10.30-11.00 Registration\, coffee and networking\n1
 1.00-11.15 Welcome (Professor Moses Oketch and Professor Elaine Unterhalte
 r\, CEID Co Directors)\n11.15 -11.45 Financing higher education and intern
 ational development (Professor Moses Oketch\, CEID)\n11.45 -12.15 Universi
 ties in the climate crisis (Professor Tristan McCowan\, CEID\, Dr. Charlot
 te Nussey\, CEID and Dr. Jackline Nyerere\, Kenyatta University)\n12.15 -1
 2.45 Higher education and development outcomes (Dr. Colleen Howell\, CEID)
 \n12.45 -13.15 Aid flows and higher education (Professor Tristan McCowan a
 nd Dr. Lee Rensimer\, CEID)\n13.15 -14.00 Lunch and PHd students poster di
 splays\n14.00 -14.30 Higher education and the public good in Nigeria\, Gha
 na\, Kenya and South Africa (Dr. Mthobisi Ndaba and Professor Stephanie Al
 lais\, REAL Centre\, University of the Witwatersrand)\n14.30 -15.00 Gender
 \, higher education and international development: reflections on mainstre
 aming\, monitoring and evaluation (Professor Elaine Unterhalter\, CEID)\n1
 5.00 -15.30 Decolonizing teaching and learning in education and internatio
 nal development (Dr. Laila Kadiwal\, CEID)\n15.30 -16.15 Higher education 
 and development in practice: reflections from SPHEIR (Strategic Partnershi
 ps for Higher Education Innovation and Reform) programme (Susanna Carmody\
 , British Council)\n16.15 -17.00 Panel discussion: Higher education\, ineq
 ualities and international development: policy\, practice\, financing and 
 aid\n&nbsp\;
ATTACH;FMTTYPE=image/jpeg:https://www.ukfiet.org/wp-content/uploads/2022/0
 6/Reimagining-higher-education-and-international-development.png
END:VEVENT
END:VCALENDAR