BEGIN:VCALENDAR
VERSION:2.0
PRODID:-//wp-events-plugin.com//7.2.3.1//EN
BEGIN:VEVENT
UID:445@ukfiet.org
DTSTART:20221129T130000Z
DTEND:20221129T140000Z
DTSTAMP:20221005T105622Z
URL:https://www.ukfiet.org/events/reflections-on-scaling-education-initiat
 ives-camfeds-learner-guide-programme-in-tanzania-zambia-and-zimbabwe/
SUMMARY:Reflections on scaling education initiatives: CAMFED’s Learner Gu
 ide programme in Tanzania\, Zambia\, and Zimbabwe
DESCRIPTION:Tuesday 29 November 2022\, 13:00-14:00 GMT\nThe REAL Centre is 
 delighted to announce a seminar series for November 2022.\nSpeakers: Luisa
  Ciampi\, REAL Centre and Lilla Oliver\, CAMFED\nTopic: Reflections on sca
 ling education initiatives: CAMFED’s Learner Guide programme in Tanzania
 \, Zambia\, and Zimbabwe\nThese are in-person events with the option to jo
 in online. Please sign up to each event that you are interesting in attend
 ing using the individual Eventbrite links. Event details will be emailed o
 ut in the days leading up to the seminar.\nREGISTER HERE
ATTACH;FMTTYPE=image/jpeg:https://www.ukfiet.org/wp-content/uploads/2014/1
 0/REAL-logo-LRG-1-smaller.jpg
CATEGORIES:Seminar
END:VEVENT
END:VCALENDAR