BEGIN:VCALENDAR
VERSION:2.0
PRODID:-//wp-events-plugin.com//7.2.3.1//EN
BEGIN:VEVENT
UID:238@ukfiet.org
DTSTART:20211020T150000Z
DTEND:20211020T160000Z
DTSTAMP:20210923T085554Z
URL:https://www.ukfiet.org/events/methods-and-findings-from-oecds-teaching
 -and-learning-international-survey-talis-video-study-of-teaching/
SUMMARY:Methods and Findings from OECD’s Teaching and Learning Internatio
 nal Survey (TALIS) Video Study of Teaching
DESCRIPTION:The Oxford Global Public Seminars in Comparative and Internatio
 nal Education address themes of major interest to academics\, practitioner
 s\, and policy-makers working in the field of education globally. These se
 minars illuminate the role of education in societal development\, with a f
 ocus on understanding changes in education policy\, discourse\, and practi
 ce\, and how these changes influence individual opportunities and shape th
 e development of educational institutions around the world. Seminars zoom 
 into the local and zoom out into the national and supranational spaces\, f
 lows\, and influences on education.\nSpeaker: Dr V. Darleen Opfer\, Vice P
 resident\, RAND Education and Labor Research Division\nDistinguished Chair
 \, Education Policy\, USA\nTalk title: Methods and Findings from OECD’s 
 Teaching and Learning International Survey (TALIS) Video Study of Teaching
 \nChaired by Maia Chankseliani\nREGISTER HERE
ATTACH;FMTTYPE=image/jpeg:https://www.ukfiet.org/wp-content/uploads/2021/0
 9/Global-public-Seminars.jpg
CATEGORIES:Seminar
END:VEVENT
END:VCALENDAR