BEGIN:VCALENDAR
VERSION:2.0
PRODID:-//wp-events-plugin.com//7.2.3.1//EN
BEGIN:VEVENT
UID:847@ukfiet.org
DTSTART:20260224T130000Z
DTEND:20260224T143000Z
DTSTAMP:20260206T144214Z
URL:https://www.ukfiet.org/events/measuring-progress-inbuilt-accountabilit
 y-and-targeted-delivery/
SUMMARY:Measuring progress – inbuilt accountability and targeted delivery
DESCRIPTION:18 February 2026\, 13:00-14:30 GMT\nREGISTER HERE\nJoin Cambrid
 ge Education for a special legacy webinar series sharing key lessons from 
 45 years of supporting education systems worldwide as we look ahead to the
  future of the global education sector.\nMeasuring progress – inbuilt ac
 countability and targeted delivery\nChair: Karen Austrian\, Population Cou
 ncil\nLearn how to build accessible\, data‑driven monitoring systems\, a
 nd the challenges of engaging with technical solutions.\nExplore how Cambr
 idge Education and partners have built monitoring systems that leverage da
 ta flows and remain accessible across every level of the delivery chain. T
 his session examines the conditions needed for success\, the challenges of
  creating the right preconditions\, and what it takes to ensure meaningful
  engagement with technical solutions.\n&nbsp\;
ATTACH;FMTTYPE=image/jpeg:https://www.ukfiet.org/wp-content/uploads/2026/0
 1/Camb-Ed-2.jpg
CATEGORIES:Webinar
END:VEVENT
END:VCALENDAR