BEGIN:VCALENDAR
VERSION:2.0
PRODID:-//wp-events-plugin.com//7.2.3.1//EN
BEGIN:VEVENT
UID:229@ukfiet.org
DTSTART:20210908T140000Z
DTEND:20210908T140000Z
DTSTAMP:20210906T115040Z
URL:https://www.ukfiet.org/events/literacy-for-a-human-centred-recovery-na
 rrowing-the-digital-divide-idl2021-dialogue-experiences-from-the-pal-netwo
 rk/
SUMMARY:Literacy for a Human Centred Recovery: Narrowing the Digital Divide
 . #IDL2021 Dialogue: Experiences from the PAL Network
DESCRIPTION:The People's Action for Learning (PAL) Network invites you to a
  virtual Dialogue titled “Literacy for a Human Centred Recovery: Narrowi
 ng the Digital Divide | Experiences from the PAL Network on 8th September 
 2021 from 4.00-5.30 pm (EAT).\n8 September 2pm BST\n\n\nThe dialogue will 
 bring together PAL Network members\, policymakers\, teachers\, parents\, a
 ssociations\, unions\, academia\, civil society organisations among other 
 stakeholders in education to:\n\n1. Share experiences in promoting digital
  inclusion for all learners amidst the ongoing pandemic.\n2. Reflect on wh
 at must be done to promote digital literacy amongst learners\, teachers\, 
 parents\, and guardians to narrow the digital divide. \n\nPanelists:\n1. M
 s. Moitshepi Matsheng\, Co-Founder\, Young 1ove Botswana\n2. Ms. Zaida Mga
 lla\, Executive Director\, Uwezo Tanzania\n3. Ms. Edith Méndez Olarte\, P
 edagogical Manager\, MIA Mexico\n4. Dr. Emmanuel Manyasa\, Executive Direc
 tor\, Usawa Agenda Kenya\n\nSession Host: \n1. Mr. Armando Ali\, CEO\, PAL
  Network\n\nModerator:\n1. Dr. Rajarshi Singh\, Director of Programs\, PAL
  Network\n\nREGISTER HERE
ATTACH;FMTTYPE=image/jpeg:https://www.ukfiet.org/wp-content/uploads/2021/0
 9/Literacy-for-human-centred-recovery.jpg
CATEGORIES:Webinar
END:VEVENT
END:VCALENDAR