BEGIN:VCALENDAR
VERSION:2.0
PRODID:-//wp-events-plugin.com//7.2.3.1//EN
BEGIN:VEVENT
UID:115@ukfiet.org
DTSTART:20210422T130000Z
DTEND:20210422T140000Z
DTSTAMP:20210224T100439Z
URL:https://www.ukfiet.org/events/learning-and-social-cohesions-among-jord
 anian-and-syrian-students-in-jordan/
SUMMARY:Learning and Social Cohesions among Jordanian and Syrian Students i
 n Jordan
DESCRIPTION:CENTRE FOR INTERNATIONAL EDUCATION\, UNIVERSITY OF SUSSEX\nCIE 
 Spring Term Events: 2021\nRESEARCH CAFE\nDr Linda Morrice\nReader in Educa
 tion &amp\; Migration\, University of Sussex\nREGISTER\n\nREGISTER ALL EVE
 NTS
ATTACH;FMTTYPE=image/jpeg:https://www.ukfiet.org/wp-content/uploads/2020/0
 9/CIE_University-of-Sussex.png
CATEGORIES:Webinar
END:VEVENT
END:VCALENDAR