BEGIN:VCALENDAR
VERSION:2.0
PRODID:-//wp-events-plugin.com//7.2.3.1//EN
BEGIN:VEVENT
UID:611@ukfiet.org
DTSTART:20240416T140000Z
DTEND:20240416T150000Z
DTSTAMP:20240403T110350Z
URL:https://www.ukfiet.org/events/introduction-to-the-accelerated-educatio
 n-introductory-teacher-training-pack/
SUMMARY:Introduction to the Accelerated Education Introductory Teacher Trai
 ning Pack
DESCRIPTION:16 April 14:00-15:00 BST\nREGISTER HERE\nINEE’s Accelerated E
 ducation Working Group invites you to a webinar on the new Accelerated Edu
 cation Introductory Teacher Training Pack (AEITTP).\nThis webinar will cov
 er the content\, pedagogy\, and approach of the AEITTP\, and how it caters
  specifically for teachers working in accelerated education programs and t
 eaching learners generally aged 10-18 who are over-age for their grade. Pa
 rticipants will also hear experiences from colleagues who have piloted\, c
 ontextualized\, and rolled out the teacher training pack in Nigeria and So
 malia.
ATTACH;FMTTYPE=image/jpeg:https://www.ukfiet.org/wp-content/uploads/2024/0
 4/INEE-Webinar-16-4-24.jpg
CATEGORIES:Webinar
END:VEVENT
END:VCALENDAR