BEGIN:VCALENDAR
VERSION:2.0
PRODID:-//wp-events-plugin.com//7.2.3.1//EN
BEGIN:VEVENT
UID:61@ukfiet.org
DTSTART:20201109T133000Z
DTEND:20201109T154500Z
DTSTAMP:20201104T100839Z
URL:https://www.ukfiet.org/events/inees-20th-anniversary/
SUMMARY:INEE's 20th Anniversary
DESCRIPTION:Monday 9 November 2020\, 8:30am-10:45am ET (New York)\, 1:30pm-
 3:45pm GMT\nINEE 20th Anniversary Global Event\nTo join\, click the link b
 elow at the time of the event:\nhttps://interprefy.interpret.world/loginli
 nk?token=inee20years\n(Token: inee20years)\nAs soon as you join\, you will
  select the language in which you want to hear the event. This event will 
 have simultaneous interpretation in English\, Arabic\, French\, Spanish\, 
 and Portuguese.\nThis event will be an opportunity to look back over 20 ye
 ars of INEE and to reflect on the achievements and challenges in the field
  of education in emergencies (EiE).\nWe hope you will join us to celebrate
  this important milestone!\nClick to learn more about this global event.\n
 The virtual event will be an opportunity to hear from children\, young peo
 ple\, and teachers on why education is important\; to share stories from I
 NEE members\, past and present\; to learn about the key achievements and c
 hallenges in the EiE sector\; and to come together in celebration. \nThe 
 INEE 20th Anniversary event will feature:  \n\n	a new global report on e
 ducation in emergencies\n	a video presentation of stories from INEE membe
 rs\n	a conversation with children and youth\n	a panel of experts on challe
 nges and achievements \n	reflections from founding members and others aro
 und the globe\n	collective celebrations \n	a quiz to test your knowledge 
 of INEE\n	an interactive education in emergencies timeline\n	...and more\n
 \nClick to learn more about this global event.\n&nbsp\;\n&nbsp\;
ATTACH;FMTTYPE=image/jpeg:https://www.ukfiet.org/wp-content/uploads/2020/1
 1/INEE-Anniversary.png
CATEGORIES:Webcast
END:VEVENT
END:VCALENDAR