BEGIN:VCALENDAR
VERSION:2.0
PRODID:-//wp-events-plugin.com//7.2.3.1//EN
BEGIN:VEVENT
UID:700@ukfiet.org
DTSTART:20241212T133000Z
DTEND:20241212T150000Z
DTSTAMP:20241202T192221Z
URL:https://www.ukfiet.org/events/iiep-strategic-debate-4-connecting-data-
 points-to-improve-education-delivery/
SUMMARY:IIEP Strategic Debate 4: Connecting data points to improve educatio
 n delivery
DESCRIPTION:Thursday\, 12 December 2024\, 13:30-15:00 GMT\nREGISTER HERE\nM
 odern education data systems and technologies offer unprecedented opportun
 ities for governments to produce\, use\, and share the best possible educa
 tion data with more people – from central and local to school-level auth
 orities\, and citizens and other stakeholders. Education Management Inform
 ation Systems (EMIS) architectures have evolved into more complex\, intero
 perable systems\, enabling more precise planning and addressing issues of 
 equity\, inclusion\, and sustainability.\nHowever\, how are these data con
 cretely and effectively used? How are these technical advancements transla
 ted into tangible improvements in education delivery and outcomes?\nThis d
 ebate will explore promising strategies to encourage the effective use of 
 education data\, particularly by local authorities\, schools\, and citizen
 s.\nModerator: \n\n	Martín Benavides\, Director\, IIEP-UNESCO\n\nSpeaker
 s:\n\n	Am Gagnon\, Data and Evidence Lead\, IIEP-UNESCO\n	Nelsiwe Dlamini\
 , Acting EMIS Manager\, Ministry of Education and Training of Eswatini\n	S
 ophia Kousiakis\, Senior Advisor and EMIS Project Manager\, University of 
 Oslo's HISP Centre\n	Stanley Rabinowitz\, Former General Manager for Asses
 sment and Reporting at the Australian Curriculum\, Assessment and Reportin
 g Authority (ACARA)\, Australia and author of IIEP’s case study on schoo
 l data\n\n&nbsp\;
ATTACH;FMTTYPE=image/jpeg:https://www.ukfiet.org/wp-content/uploads/2024/1
 2/IIEP-Strategic-Debate.png
CATEGORIES:Webinar
END:VEVENT
END:VCALENDAR