BEGIN:VCALENDAR
VERSION:2.0
PRODID:-//wp-events-plugin.com//7.2.3.1//EN
BEGIN:VEVENT
UID:886@ukfiet.org
DTSTART:20260512T130000Z
DTEND:20260512T140000Z
DTSTAMP:20260423T090947Z
URL:https://www.ukfiet.org/events/humanising-the-algorithm-ai-teacher-agen
 cy-and-educational-futures/
SUMMARY:Humanising the algorithm: AI\, teacher agency and educational futur
 es
DESCRIPTION:12 May\, 13:00-14:00 BST\nREGISTER HERE TO JOIN IN CAMBRIDGE OR
  CAPE TOWN OR ONLINE \nJoin the Research for Equitable Access and Learning
  (REAL) Centre at the University of Cambridge\, UK\, and the University of
  the Western Cape (UWC)\, South Africa\, for a joint seminar series explor
 ing equity and pedagogy in times of global crises.\nThis seminar criticall
 y assesses Artificial Intelligence (AI) in education\, centring teacher ag
 ency and ethical responsibility in algorithmic systems\n\n	Professor Rajen
 dran Govender\, Dean of the Faculty of Education\, University of the Weste
 rn Cape\n	Dr Dominique Fagan\, Faculty of Education\, UWC\n\nSee other sem
 inars in the series.\n&nbsp\;
ATTACH;FMTTYPE=image/jpeg:https://www.ukfiet.org/wp-content/uploads/2026/0
 4/REAK-12-5-26.jpg
CATEGORIES:Seminar
END:VEVENT
END:VCALENDAR