BEGIN:VCALENDAR
VERSION:2.0
PRODID:-//wp-events-plugin.com//7.2.3.1//EN
BEGIN:VEVENT
UID:870@ukfiet.org
DTSTART:20260326T090000Z
DTEND:20260326T090000Z
DTSTAMP:20260310T135406Z
URL:https://www.ukfiet.org/events/from-policy-to-delivery-designing-edtech
 -implementation-frameworks-within-digital-transformation/
SUMMARY:From Policy to Delivery: Designing EdTech Implementation Frameworks
  within Digital Transformation
DESCRIPTION:26 March 2026\, 9:00am GMT\nREGISTER HERE\nWhat does it take to
  move from EdTech policy to implementation?\nJoin this upcoming webinar or
 ganised by the EdTech Hub bringing together Ministry of Education represen
 tatives from Indonesia\, Kenya\, Pakistan\, the Philippines and Sierra Leo
 ne to discuss how digital transformation in education requires more than j
 ust technology adoption.\nDigital transformation systems requires adaptive
  governance: the ability to diagnose constraints\, embed evidence\, transl
 ate policy into practice and adjust across diverse contexts before scaling
 .\nThe webinar will share lessons from supporting governments to design ad
 aptive implementation approaches that diagnose system constraints and tran
 slate policy into practice.
ATTACH;FMTTYPE=image/jpeg:https://www.ukfiet.org/wp-content/uploads/2026/0
 3/From-Policy-to-Delivery-26-3-26.jpg
CATEGORIES:Webinar
END:VEVENT
END:VCALENDAR