BEGIN:VCALENDAR
VERSION:2.0
PRODID:-//wp-events-plugin.com//7.2.3.1//EN
BEGIN:VEVENT
UID:319@ukfiet.org
DTSTART:20220118T140000Z
DTEND:20220118T140000Z
DTSTAMP:20220113T111059Z
URL:https://www.ukfiet.org/events/fln-hub-global-launch-tools-and-resource
 s-for-advancing-fln/
SUMMARY:FLN Hub Global Launch: Tools and Resources for Advancing FLN
DESCRIPTION:18 January 2022\, 2pm GMT\nToday\, the world is facing a learni
 ng crisis\, which has been exacerbated by the COVID-19 pandemic. Even befo
 re the pandemic\, more than half of children in low- and middle-income cou
 ntries were not able to read and understand a simple text by the age of 10
 \, write or do basic mathematics. Children need a strong foundation in lea
 rning to succeed in their education and life. There is an urgent need to a
 ccelerate results in foundational literacy and numeracy to ensure that eve
 ry child is ready to succeed at school by 2030.\nAs part of its FLN Initia
 tive\, UNICEF and its partners J-PAL\, Pratham and Delivery Associates\, w
 ith support from the World Bank and the Global Partnership for Education\,
  recently launched the FLN Hub\, a resource website that provides guidance
  and practical tools to support education actors in strengthening systems 
 to implement FLN programmes. The FLN Hub seeks to combine rigorous researc
 h and practical resources to provide actionable guidance for global educat
 ion actors seeking to address the learning crisis.\nThis introductory webi
 nar aims to :\nGive an overview of the background\, purpose and contents o
 f the FLN Hub\;\nOrient participants to the contents of the Hub.\n&nbsp\;\
 nThe webinar also serves to kick off the FLN Academy 2\, which will draw o
 n the resources of the Hub to support the conceptualization\, design and i
 mplementation of FLN programmes.\nRegister here
ATTACH;FMTTYPE=image/jpeg:https://www.ukfiet.org/wp-content/uploads/2022/0
 1/FLN-event-poster-18-1-22.jpg
CATEGORIES:Webinar
END:VEVENT
END:VCALENDAR