BEGIN:VCALENDAR
VERSION:2.0
PRODID:-//wp-events-plugin.com//7.2.3.1//EN
BEGIN:VEVENT
UID:51@ukfiet.org
DTSTART:20201019T120000Z
DTEND:20201019T130000Z
DTSTAMP:20201014T083554Z
URL:https://www.ukfiet.org/events/family-literacy-and-indigenous-learning-
 perspectives-from-malawi-nepal-ethiopia-and-the-philippines/
SUMMARY:Family literacy and indigenous learning: perspectives from Malawi\,
  Nepal\, Ethiopia and the Philippines
DESCRIPTION:Webinar: Monday 19th October 2020\, 12-1pm (UK time)\n\nRegiste
 r: www.bit.ly/FamilyLiteracyEduDev\nFamily literacy programmes in the Glob
 al South have tended to be modelled on US/UK approaches\, underpinned by a
 ssumptions about nuclear families and promoting Western ‘schooled’ lit
 eracy. This webinar will present preliminary findings from the UKRI-funded
  research 'Family Literacy\, Indigenous Learning and Sustainable Developme
 nt Project' which set out to develop an alternative model of family lite
 racy that could build on indigenous knowledge and everyday learning. Team
  members will share their ethnographic research on indigenous approaches t
 o intergenerational learning and knowledge in Nepal\, Ethiopia\, the Phili
 ppines and Malawi\, exploring literacy practices in relation to diverse li
 velihoods\, religion\, health\, forestry and agriculture. The research aim
 s to bring policymakers' and educators' attention to the disjunction betwe
 en current mainstream approaches to adult/family literacy instruction and 
 the ways in which adults and children learn in everyday life in order to e
 nhance the contribution of education to sustainable development.\nSpeakers
 :\nCamilla Vizconde- University of Santo Tomas\, The Philippines\n\nAbiy M
 enkir - Bahir Dar University\, Ethiopia\n\nSushan Acharya - Tribuvhan Univ
 ersity\, Nepal\n\nJean Chavula\, University of Malawi\, Malawi\n\nAnna Rob
 inson-Pant and Chris Millora\, University of East Anglia\, UK\n\nRegister:
  www.bit.ly/FamilyLiteracyEduDev\n\n&nbsp\;
ATTACH;FMTTYPE=image/jpeg:https://www.ukfiet.org/wp-content/uploads/2020/1
 0/UEA-Webinar-19-10.20.png
CATEGORIES:Webinar
END:VEVENT
END:VCALENDAR