BEGIN:VCALENDAR
VERSION:2.0
PRODID:-//wp-events-plugin.com//7.2.3.1//EN
BEGIN:VEVENT
UID:424@ukfiet.org
DTSTART:20220912T140000Z
DTEND:20220912T163000Z
DTSTAMP:20220816T090147Z
URL:https://www.ukfiet.org/events/facing-the-climate-crisis-international-
 experiences-of-university-action/
SUMMARY:Facing the climate crisis: International experiences of university 
 action
DESCRIPTION:Monday\, 12 September 2022\, 2.00 – 16:30 BST\nRoom TBC\nIOE\
 , UCL's Faculty of Education and Society\, Institute of Education\, Lond
 on\, WC1H 0AL\n&nbsp\;\nThe three presentations for this event draw on em
 erging findings from the 3-year GCRF project Transforming Universities for
  a Changing Climate and are intended to foster debate and critical convers
 ation about how universities impact actions and ideas about climate change
  in the Global South.\n \nResearchers involved with CEID (Centre for Educ
 ation and International Development\, UCL) will be in conversation with th
 e lead research partner for the project in Fiji\, Dr Rosiana Lagi\, to eng
 age with different dimensions of the contributions of higher education to 
 the climate crisis.\n \nThe event is free to attend in person\, but regis
 tration on Eventbrite is required for room booking purposes. The event is 
 open to all those with an interest in the issues under discussion.\n \nRE
 GISTER HERE\nPlanned programme*:\n2.00-2.15: Welcome and introductions\n2.
 15-2.40: Understanding universities as holistic spaces: findings from a sy
 stematic review of literature (by Dr Lorena Sanchez Tyson\, IOE UCL)\n2.40
 -3.05: Engaging with student practices\, experiences\, and attitudes: find
 ings from a survey of 12 universities (Professor Caine Rolleston\, IOE UCL
 )\n3.05-3.20: Coffee break\n3:20-4.00: Lessons from Vatutavui: findings fr
 om Participatory Action Research in Fiji - (by Dr Rosiana Lagi\, Universit
 y of the South Pacific)\n4.00-4.30: Participatory debate and closing remar
 ks (led by Professor Tristan McCowan\, Principal Investigator of the Clima
 te-U project)\nFind out more: www.climate-uni.com\nTweet: @ClimateUniv\nCo
 ntact: Lorena Sanchez Tyson\, Research Fellow lorena.sanchez@ucl.ac.uk\n*P
 lease note that the room number for the event will be confirmed closer to 
 the event date.\n&nbsp\;\n&nbsp\;
ATTACH;FMTTYPE=image/jpeg:https://www.ukfiet.org/wp-content/uploads/2021/0
 1/UCL-IoE.png
CATEGORIES:Seminar
END:VEVENT
END:VCALENDAR