BEGIN:VCALENDAR
VERSION:2.0
PRODID:-//wp-events-plugin.com//7.2.3.1//EN
BEGIN:VEVENT
UID:214@ukfiet.org
DTSTART:20210728T173000Z
DTEND:20210728T173000Z
DTSTAMP:20210726T165208Z
URL:https://www.ukfiet.org/events/exploring-alternative-sources-of-finance
 -to-fund-the-global-education-deficit/
SUMMARY:Exploring alternative sources of finance to fund the global educati
 on deficit
DESCRIPTION:28 July 2021\, 5:30pm BST\nThe education funding gap is large a
 nd increasing due to COVID-19\, while demand for access to education conti
 nues to grow. And yet\, many countries already have high rates of spend on
  education\, with low- and middle-income countries comprising the top 15 c
 ountries in the world that spend the most on education as a proportion of 
 their budget.\nThe dialogue on financing education needs to consider the r
 ole that both public and private capital can play in closing the education
  funding gap.\nJoin Opportunity International EduFinance and our expert pa
 nelists to discuss:\n\n	The overall global education funding gap\n	Why a d
 ual approach of both public and private funding is necessary\n	How private
  capital may be attracted\n\nConfirmed panelists for this official 2021 Gl
 obal Education Summit Side Event include:\n\n&nbsp\;\n&nbsp\;\n&nbsp\;\n&n
 bsp\;\n&nbsp\;\n&nbsp\;\n&nbsp\;\nREGISTER HERE
ATTACH;FMTTYPE=image/jpeg:https://www.ukfiet.org/wp-content/uploads/2021/0
 7/alternative-finance-event.png
CATEGORIES:Panel
END:VEVENT
END:VCALENDAR