BEGIN:VCALENDAR
VERSION:2.0
PRODID:-//wp-events-plugin.com//7.2.3.1//EN
BEGIN:VEVENT
UID:655@ukfiet.org
DTSTART:20240918T140000Z
DTEND:20240918T140000Z
DTSTAMP:20240909T092818Z
URL:https://www.ukfiet.org/events/ericc-webinar-series-refugee-inclusion-i
 n-national-education-systems/
SUMMARY:ERICC Webinar Series: Refugee Inclusion in National Education Syste
 ms
DESCRIPTION:18 September\, 14:00 BST\nREGISTER FOR THE WEBINAR HERE\nAlthou
 gh refugee inclusion in host country education systems has emerged as a gr
 owing policy priority in an effort to improve education access and quality
 \, education remains out of reach for half of refugee children: compared t
 o the global average of 102%\, the primary gross enrollment rate for refug
 ee children in 2023 was only 65%. The data signals a clear need to underst
 and the latest research on refugee inclusion\, as well as the policy and p
 ractice takeaways emerging from the latest evidence.\nTo this end\, INEE i
 s hosting an event bringing together researchers from Education Research i
 n Conflict and Protracted Crisis (ERICC) and other similar initiatives to 
 present their latest research and findings in this area. Together\, the pa
 nelists will engage in discussion about connections and learnings across c
 ontexts. These presentations\, ranging from global evidence reviews to com
 parative longitudinal studies\, will aim to create a more cohesive underst
 anding of the latest research in refugee inclusion\, with the aim to move 
 the EiE sector forward through specific takeaways for policy and practice.
ATTACH;FMTTYPE=image/jpeg:https://www.ukfiet.org/wp-content/uploads/2020/0
 8/INEE-300x140-1.png
CATEGORIES:Webinar
END:VEVENT
END:VCALENDAR