BEGIN:VCALENDAR
VERSION:2.0
PRODID:-//wp-events-plugin.com//7.2.3.1//EN
BEGIN:VEVENT
UID:858@ukfiet.org
DTSTART:20260303T110000Z
DTEND:20260303T120000Z
DTSTAMP:20260203T092550Z
URL:https://www.ukfiet.org/events/equity-in-international-partnerships-ret
 hinking-global-research-collaborations/
SUMMARY:Equity in international partnerships: Rethinking global research co
 llaborations
DESCRIPTION:3 March 2026\, 11:00-12:00 GMT\nREGISTER HERE\nJoin the Researc
 h for Equitable Access and Learning (REAL) Centre at the University of Cam
 bridge\, UK\, and the University of the Western Cape (UWC)\, South Africa\
 , for a joint seminar series exploring equity\, pedagogy and innovation in
  times of global crises:\nEducation\, justice and climate resilience: Glob
 al dialogues for sustainable futures\nRegister to join in person (in the U
 K or South Africa) or online.\nSpeakers:\n\n	Professor Tassew Woldehanna\,
  University Addis Ababa\, Ethiopia\n	Professor Padma Sarangapani\, School 
 of Education\, TISS\, Mumbai\n	Professor Shaun Pather\, Acting Deputy Vice
 -Chancellor\, UWC (discussant)\n\nThis seminar analyses partnerships betwe
 en Global North and Global South and whether and how they embody equitable
  access to resources\, knowledge production and recognition.
ATTACH;FMTTYPE=image/jpeg:https://www.ukfiet.org/wp-content/uploads/2026/0
 2/REAL-Seminar-Series-Spring-26.jpg
CATEGORIES:Seminar
END:VEVENT
END:VCALENDAR