BEGIN:VCALENDAR
VERSION:2.0
PRODID:-//wp-events-plugin.com//7.2.3.1//EN
BEGIN:VEVENT
UID:272@ukfiet.org
DTSTART:20211109T110000Z
DTEND:20211109T110000Z
DTSTAMP:20211020T135300Z
URL:https://www.ukfiet.org/events/education-development-and-peace-in-the-s
 ervice-of-authoritarian-elites-the-case-of-post-soviet-tajikistan/
SUMMARY:Education\, Development and Peace in the service of authoritarian e
 lites: the case of Post-Soviet Tajikistan
DESCRIPTION:9 November 2021\, 11am GMT\nLead Presenter: Laila Kadiwal\, UCL
  Institute of Education\nRegister via Zoom:\nhttps://nu-edu-kz.zoom.us/mee
 ting/register/tJ0pfuysrzItHNcfy6EIw2HgaTmZ_DrT3Rns\nThe seminar is part of
  the research seminar series organised by Central Asia Hub of PEER Network
 . The PEER Network is a three-year initiative led by four universities (Ul
 ster\, Cape Town\, Nazarbayev and Sussex).
ATTACH;FMTTYPE=image/jpeg:https://www.ukfiet.org/wp-content/uploads/2021/1
 0/9-Nov-PEER-network.jpg
CATEGORIES:Seminar
END:VEVENT
END:VCALENDAR