BEGIN:VCALENDAR
VERSION:2.0
PRODID:-//wp-events-plugin.com//7.2.3.1//EN
BEGIN:VEVENT
UID:875@ukfiet.org
DTSTART:20260415T140000Z
DTEND:20260415T153000Z
DTSTAMP:20260401T133225Z
URL:https://www.ukfiet.org/events/education-and-career-development-panel-2
 /
SUMMARY:Education and Career Development: Panel #2
DESCRIPTION:Wednesday 15 April 2026\, 14:00-15:30 BST\nRegister to join onl
 ine via Teams\nJoin the Moray House Comparative Education and Internationa
 l Development (CEID) Community to listen to global development and educati
 on experts as they discuss their career experience.\nThis will be the seco
 nd of two panels and will include:\n\n	Burcu Meltem Arik Akyüz\, Educatio
 n Observatory Coordinator\, Education Reform Initiative\n	Rui da Silva\, D
 eputy Director\, Al Qasimi Foundation\n	Danielle Falk\, Education Research
 er\, International Rescue Committee\n	David Balwanz\, Senior Education Spe
 cialist\, Global Partnership for Education\n	Yuki Murakami\, Research and 
 Data Analyst\, UNESCO Global Education Monitoring Report\n	Luke Pye\, Evid
 ence Coordinator\, Inter-Agency Network for Education in Emergencies (INEE
 )\n\n&nbsp\;
ATTACH;FMTTYPE=image/jpeg:https://www.ukfiet.org/wp-content/uploads/2026/0
 4/CIED-2026-Career-Panel-2.png.jpg
CATEGORIES:Webinar
END:VEVENT
END:VCALENDAR