BEGIN:VCALENDAR
VERSION:2.0
PRODID:-//wp-events-plugin.com//7.2.3.1//EN
BEGIN:VEVENT
UID:874@ukfiet.org
DTSTART:20260408T120000Z
DTEND:20260408T133000Z
DTSTAMP:20260401T132709Z
URL:https://www.ukfiet.org/events/education-and-career-development-panel-1
 /
SUMMARY:Education and Career Development: Panel #1
DESCRIPTION:Wednesday 8 April 2026\, 12:00-13:30 BST\nRegister to join onli
 ne via Teams\nJoin the Moray House Comparative Education and International
  Development (CEID) Community to listen to global development and educatio
 n experts as they discuss their career experience.\nThis will be the first
  of two panels and will include:\n\n	Romina Eliana Tome\, Sector Senior As
 sociate\, Inter-American Development Bank (IDB)\n	Jonathan Stöterau\, Eco
 nomist and Impact Evaluation Specialist\, World Bank’s Social Protection
  and Jobs Global Practice (SPJ)\n	Ana Ria Reji\, Project Manager\, Central
  Square Foundation\n	Louisa Yasukawa\, Advocacy and Policy Manager\, UNICE
 F Australia\n	Anupama Pradeepan\, Co-Founder\, Open Space Foundation\n
ATTACH;FMTTYPE=image/jpeg:https://www.ukfiet.org/wp-content/uploads/2026/0
 4/CIED-2026-Career-Panel.jpg
CATEGORIES:Webinar
END:VEVENT
END:VCALENDAR