BEGIN:VCALENDAR
VERSION:2.0
PRODID:-//wp-events-plugin.com//7.2.3.1//EN
BEGIN:VEVENT
UID:883@ukfiet.org
DTSTART:20260528T000000Z
DTEND:20260528T000000Z
DTSTAMP:20260423T090154Z
URL:https://www.ukfiet.org/events/educaid-be-international-conference/
SUMMARY:Educaid.be International Conference
DESCRIPTION:28 May in Brussels and online\nMore information\nAcross the wor
 ld\, conflicts and crises - from Ukraine and Gaza to the DRC and the Sahel
  - are destabilising education systems and threatening hard‑won learning
  gains. As the line between humanitarian response and long‑term developm
 ent blurs\, education actors are challenged to deliver support that is bot
 h immediate and sustainable.\nThe Educaid.be International Conference 2026
  will bring together education\, humanitarian\, and development actors to 
 explore how education can strengthen resilience in times of crisis. Join i
 nternational experts\, policymakers\, NGOs\, and practitioners for a day o
 f strategic exchange\, practical insights\, and inspiring examples.\nThrou
 gh four interactive learning labs\, the conference will showcase concrete 
 approaches to protecting education\, supporting teachers and learners\, an
 d ensuring continuity of learning amid instability.
ATTACH;FMTTYPE=image/jpeg:https://www.ukfiet.org/wp-content/uploads/2026/0
 4/Educaid-2026.jpg
CATEGORIES:Conference
END:VEVENT
END:VCALENDAR