BEGIN:VCALENDAR
VERSION:2.0
PRODID:-//wp-events-plugin.com//7.2.3.1//EN
BEGIN:VEVENT
UID:863@ukfiet.org
DTSTART:20260226T140000Z
DTEND:20260226T153000Z
DTSTAMP:20260216T094044Z
URL:https://www.ukfiet.org/events/developing-disability-inclusive-emis-ins
 ights-from-armenia-the-gambia-and-south-africa/
SUMMARY:Developing disability-inclusive EMIS: Insights from Armenia\, The G
 ambia\, and South Africa
DESCRIPTION:26 February\, 14:00-15:30 GMT\nREGISTER HERE\nInclusive educati
 on systems require planning tools that can count every learner—including
  children with disabilities – and turn evidence into better decisions. Y
 et in many contexts\, disability data is unavailable\, incomplete\, or dif
 ficult to compare\, and Education Management Information Systems (EMIS) do
  not always provide the information needed to plan\, budget\, and monitor 
 disability-inclusive education policies and programmes effectively.\nThis 
 webinar will review the principles and good practices for developing an EM
 IS that supports disability-inclusive education\, including how to better 
 identify children with disabilities and their support needs\, and how to c
 apture information on the accessibility and inclusivity of the school envi
 ronment. It will also outline the first steps of a roadmap of options that
  can be adopted in the short\, medium\, and long run\, depending on the lo
 cal context.\nDrawing on the experiences of The Gambia\, South Africa\, an
 d Armenia\, the discussion will highlight recent advancements in disabilit
 y-inclusive EMIS design and implementation\, including how disability data
  is used for decision-making and how EMIS can connect with other systems s
 uch as social protection. \nThe webinar will mark the official launch of 
 the Community of Practice on Disability-Inclusive Education Sector Plannin
 g (CoP-DIESP) – a global platform for knowledge exchange\, peer-learning
 \, and collaboration\, facilitated by IIEP-UNESCO in Africa. The CoP is be
 ing launched as part of the regional programme Planning for Inclusive Educ
 ation\, launched in 2024 with the support of the Italian Agency for Develo
 pment Cooperation (AICS).\n&nbsp\;
ATTACH;FMTTYPE=image/jpeg:https://www.ukfiet.org/wp-content/uploads/2026/0
 2/Developing-disability-inclusive-EMIS.jpg
CATEGORIES:Webinar
END:VEVENT
END:VCALENDAR