BEGIN:VCALENDAR
VERSION:2.0
PRODID:-//wp-events-plugin.com//7.2.3.1//EN
BEGIN:VEVENT
UID:752@ukfiet.org
DTSTART:20250527T120000Z
DTEND:20250527T131500Z
DTSTAMP:20250414T145015Z
URL:https://www.ukfiet.org/events/catch-up-then-what-aligning-education-sy
 stems-with-childrens-realities/
SUMMARY:Catch-up then what? Aligning education systems with children’s re
 alities
DESCRIPTION:27 May 2025\, 12:00-13:15pm BST\nREGISTER HERE\nJoin this Knowl
 edge in Action webinar\, where researchers and practitioners will explore 
 strategies for the systemic support of vulnerable children’s educational
  recovery and progression.\nA panel of organisations\, including World Vis
 ion and the Centre for the Study of Global Development at The Open Univers
 ity\, will discuss their experiences of different catch-up and accelerated
  learning initiatives and explore how such programmes can be embedded into
  education systems to transform learning pathways and empower all children
 . What needs to change so that the education system works for these childr
 en\, and we do not need to play catch up for ever.\nLive French and Spanis
 h translations are available.
ATTACH;FMTTYPE=image/jpeg:https://www.ukfiet.org/wp-content/uploads/2025/0
 4/Catch-up-then-what.jpg
CATEGORIES:Webinar
END:VEVENT
END:VCALENDAR