BEGIN:VCALENDAR
VERSION:2.0
PRODID:-//wp-events-plugin.com//7.2.3.1//EN
BEGIN:VEVENT
UID:703@ukfiet.org
DTSTART:20250122T130000Z
DTEND:20250122T143000Z
DTSTAMP:20250115T141823Z
URL:https://www.ukfiet.org/events/book-launch-the-rise-of-knowledge-broker
 s-in-global-education-governance/
SUMMARY:Book Launch - The Rise of Knowledge Brokers in Global Education Gov
 ernance
DESCRIPTION:22 January 2025\, 13:00-14:30 GMT\nREGISTER HERE\nHow do policy
 makers orient themselves in an era of surplus information? NORRAG is launc
 hing the latest book of its series on International Education and Developm
 ent\, with the KIX EMAP Hub. This book presents a multidisciplinary invest
 igation into the growing influence of knowledge brokers and how they utili
 se evidence to support education policy and planning.\nThis online launch 
 event will include a presentation by the co-editors\, as well as two panel
 s: the first on Institutional Logics and Efforts in Knowledge Brokerage\, 
 followed by a second on Local Contexts and Inequalities in Knowledge Broke
 rage.\nIt is organised with the support of the UNESCO Chair in Comparative
  Education Policy\, Geneva Graduate Institute\, and the Gottesman Librarie
 s\, Teachers College\, Columbia University.\nInterpretation in Arabic\, Fr
 ench\, Mandarin\, Portuguese\, Russian and Spanish will be available. Auto
 matically translated closed captioning in various languages will also be a
 vailable.
ATTACH;FMTTYPE=image/jpeg:https://www.ukfiet.org/wp-content/uploads/2024/1
 2/Rise-of-knowledge-brokers.jpg
CATEGORIES:Book Launch
END:VEVENT
END:VCALENDAR