BEGIN:VCALENDAR
VERSION:2.0
PRODID:-//wp-events-plugin.com//7.2.3.1//EN
BEGIN:VEVENT
UID:158@ukfiet.org
DTSTART:20210610T140000Z
DTEND:20210610T150000Z
DTSTAMP:20210604T084522Z
URL:https://www.ukfiet.org/events/appg-pdrh-report-launch-how-investing-in
 -sexual-and-reproductive-health-and-rights-helps-keep-girls-in-school/
SUMMARY:APPG PDRH Report Launch: How investing in sexual and reproductive h
 ealth and rights helps keep girls in school
DESCRIPTION:Baroness Sugg CBE\, Baroness Hussein-Ece OBE and Pauline Latham
  OBE MP\nChairs of the UK APPG on Population\, Development and Reproductiv
 e Health\, and The European Parliamentary Forum for Sexual &amp\; Reproduc
 tive Rights (EPF)\n \nWarmly invite you to attend the launch of the APPG
 ’s parliamentary hearing report on girls’ education and sexual and rep
 roductive health and rights in the developing world\n \n12 years of quali
 ty education: How investing in sexual and reproductive health and rights h
 elps keep girls in school\n \nKeynotes\nHelen Grant MP\, The Prime Minist
 er’s Special Envoy for Girls’ Education\n \nAdditional speakers\nEsi 
 Asare Prah\, Advocacy and Youth Focal Coordinator\, MSI Ghana\nKerigo Odad
 a\, Lawyer and Board Member\, The Youth Coalition for Sexual and Reproduct
 ive Rights\nEPF representative TBC\nBaroness Sugg CBE\, Co-Chair APPG on P
 opulation\, Development and Reproductive Health\n \nRegistration: https:
 //zoom.us/webinar/register/WN_Xh2QUGMdSOqzT6ziEsYStQ\nPlease register by 5
 :00pm BST on Wednesday\, 9 June 2021\n\n
ATTACH;FMTTYPE=image/jpeg:https://www.ukfiet.org/wp-content/uploads/2021/0
 6/APPG-12-years-of-education.jpg
CATEGORIES:Webinar
END:VEVENT
END:VCALENDAR