BEGIN:VCALENDAR
VERSION:2.0
PRODID:-//wp-events-plugin.com//7.2.3.1//EN
BEGIN:VEVENT
UID:861@ukfiet.org
DTSTART:20260310T130000Z
DTEND:20260310T140000Z
DTSTAMP:20260305T115705Z
URL:https://www.ukfiet.org/events/academic-solidarity-and-responsibility-a
 frica-and-palestine-in-global-perspectives-2/
SUMMARY:Academic solidarity and responsibility: Africa and Palestine in glo
 bal perspectives
DESCRIPTION:10 March 2026\, 13:00-14:00 GMT\nREGISTER HERE\nJoin the Resear
 ch for Equitable Access and Learning (REAL) Centre at the University of Ca
 mbridge\, UK\, and the University of the Western Cape (UWC)\, South Africa
 \, for a joint seminar series exploring equity\, pedagogy and innovation i
 n times of global crises:\nEducation\, justice and climate resilience: Glo
 bal dialogues for sustainable futures\nRegister to join in person (in the 
 UK or South Africa) or online.\nSpeakers:\n\n	\nSpeakers are now as follow
 is:\n\n	Dr Umesh Bawa\, Director of International Relations\, UWC\n	 Profe
 ssor Leslie London\, Public Health Specialist\, Department of Community Me
 dicine\, University of Cape Town\n	 Dr Wesam Amer\, Dean\, Faculty of Comm
 unication and Languages\, Gaza University\, and visiting researcher at Uni
 versity of Cambridge\n	 Professor Yusuf Sayed\, REAL Centre\, University o
 f Cambridge (discussant)\n\n&nbsp\;\n\n\nThis seminar explores the contest
 ed terrain of academic freedom as a cornerstone for knowledge sovereignty 
 and democratic participation. It will interrogate the ethics of academic s
 olidarity and shared responsibility in contexts of struggle and
ATTACH;FMTTYPE=image/jpeg:https://www.ukfiet.org/wp-content/uploads/2026/0
 2/10-March-poster.jpg
CATEGORIES:Seminar
END:VEVENT
END:VCALENDAR