BEGIN:VCALENDAR
VERSION:2.0
PRODID:-//wp-events-plugin.com//7.2.3.1//EN
BEGIN:VEVENT
UID:726@ukfiet.org
DTSTART:20250304T120000Z
DTEND:20250304T130000Z
DTSTAMP:20250203T152741Z
URL:https://www.ukfiet.org/events/abstract-writing-drop-in-session/
SUMMARY:Abstract Writing Drop in Session
DESCRIPTION:4 March 12:00 - 13:00 GMT - online\nWe understand that writing 
 an abstract effectively requires specific skills which prospective present
 ers may or may not have. To ensure inclusion\, are offering\n\n	Guidance\,
  shared within an ‘abstract writing pack’ on the UKFIET website\, cont
 ains both guidance for writing a clear/effective abstract as well as crite
 ria for review\n	The sessions will cover the review criteria in more detai
 l and offer the opportunity for prospective presenters to ask specific que
 stions. If you would like to attend a session\, please sign up here:\n\nSI
 GN UP HERE\nSession 1: 12.00 GMT Tuesday 4th March\nSession 2: 16.00 GMT W
 ednesday 5th March\nSession 3: 08.00 GMT Thursday 6th March   
ATTACH;FMTTYPE=image/jpeg:https://www.ukfiet.org/wp-content/uploads/2025/0
 2/2025-Conference-web-images_Title.jpg
CATEGORIES:Training
END:VEVENT
END:VCALENDAR